BEGIN:VCALENDAR
PRODID:-//github.com/rianjs/ical.net//NONSGML ical.net 4.0//EN
VERSION:2.0
BEGIN:VEVENT
CATEGORIES:Activities
DESCRIPTION:
DTEND;TZID=Central Standard Time:20260603T230000
DTSTAMP:20260422T140631Z
DTSTART;TZID=Central Standard Time:20260603T190000
SEQUENCE:0
SUMMARY:Walleye vs Alumni Baseball Game
UID:7f87efd5-af87-49b6-a736-afe2171aa90d
END:VEVENT
END:VCALENDAR
