BEGIN:VCALENDAR
PRODID:-//github.com/rianjs/ical.net//NONSGML ical.net 4.0//EN
VERSION:2.0
BEGIN:VEVENT
CATEGORIES:Activities
DESCRIPTION:
DTEND;TZID=Central Standard Time:20260706T210000
DTSTAMP:20260422T140123Z
DTSTART;TZID=Central Standard Time:20260706T170000
SEQUENCE:0
SUMMARY:Post 29 Walleye vs Williston Oilers
UID:0ccb7515-7ff8-408e-b3f7-a5d075b21545
END:VEVENT
END:VCALENDAR
