BEGIN:VCALENDAR
PRODID:-//github.com/rianjs/ical.net//NONSGML ical.net 4.0//EN
VERSION:2.0
BEGIN:VEVENT
CATEGORIES:Activities
DESCRIPTION:
DTEND;TZID=Central Standard Time:20260718T130000
DTSTAMP:20260422T141224Z
DTSTART;TZID=Central Standard Time:20260718T110000
SEQUENCE:0
SUMMARY:Post 29 Walleye vs Valley City Royals
UID:af76fa63-8843-4cfa-802a-34d127d6a38c
END:VEVENT
END:VCALENDAR
