BEGIN:VCALENDAR
PRODID:-//github.com/rianjs/ical.net//NONSGML ical.net 4.0//EN
VERSION:2.0
BEGIN:VEVENT
CATEGORIES:Activities
DESCRIPTION:
DTEND;TZID=Central Standard Time:20260709T210000
DTSTAMP:20260422T140315Z
DTSTART;TZID=Central Standard Time:20260709T170000
SEQUENCE:0
SUMMARY:Post 29 Walleye vs Dickinson Volunteers
UID:a28b9d46-7cbd-452b-bbce-9151c69a831e
END:VEVENT
END:VCALENDAR
