BEGIN:VCALENDAR
PRODID:-//github.com/rianjs/ical.net//NONSGML ical.net 4.0//EN
VERSION:2.0
BEGIN:VEVENT
CATEGORIES:Activities
DESCRIPTION:
DTEND;TZID=Central Standard Time:20260623T203000
DTSTAMP:20260422T140840Z
DTSTART;TZID=Central Standard Time:20260623T160000
SEQUENCE:0
SUMMARY:Post 29 Walleye vs Bismarck Senators
UID:31b11252-04cf-431d-bd85-5e6de5b09334
END:VEVENT
END:VCALENDAR
