BEGIN:VCALENDAR
PRODID:-//github.com/rianjs/ical.net//NONSGML ical.net 4.0//EN
VERSION:2.0
BEGIN:VEVENT
CATEGORIES:Activities
DESCRIPTION:
DTEND;TZID=Central Standard Time:20260622T210000
DTSTAMP:20260422T140652Z
DTSTART;TZID=Central Standard Time:20260622T170000
SEQUENCE:0
SUMMARY:Post 29 Walleye vs Belfield
UID:335911e6-eb43-4637-a2db-8827197fef9b
END:VEVENT
END:VCALENDAR
