BEGIN:VCALENDAR
PRODID:-//github.com/rianjs/ical.net//NONSGML ical.net 4.0//EN
VERSION:2.0
BEGIN:VEVENT
CATEGORIES:Events
DESCRIPTION:Annual Pheasants Forever Wild Game Feed
DTEND;TZID=Central Standard Time:20260425T000000
DTSTAMP:20260423T182753Z
DTSTART;TZID=Central Standard Time:20260425T180000
SEQUENCE:0
SUMMARY:Pheasant's Forever Wild Game Feed
UID:5a05ca7f-e058-4d43-98e9-c301b15db27c
END:VEVENT
END:VCALENDAR
