BEGIN:VCALENDAR
PRODID:-//github.com/rianjs/ical.net//NONSGML ical.net 4.0//EN
VERSION:2.0
BEGIN:VEVENT
CATEGORIES:Classes
DESCRIPTION:Join us for a relaxed and creative Paint Your Own Pottery Open
  Studio!
DTEND;TZID=Central Standard Time:20260509T160000
DTSTAMP:20260421T113816Z
DTSTART;TZID=Central Standard Time:20260509T100000
SEQUENCE:0
SUMMARY:Paint Your Own Pottery Open Studio-May
UID:c4bf20e9-88c0-431f-828f-2f7e0c99cc51
END:VEVENT
END:VCALENDAR
