BEGIN:VCALENDAR
PRODID:-//github.com/rianjs/ical.net//NONSGML ical.net 4.0//EN
VERSION:2.0
BEGIN:VEVENT
CATEGORIES:School Sports
DESCRIPTION: Vs. Sidney<table class='games'><thead><tr><th>Team</th><th>Ti
 me</th><th>Location</th></thead><tbody><tr><td>Varsity</td><td>1:00pm </t
 d><td>Koeser Field</td><tr><td>JV</td><td>1:00pm </td><td>McKenzie County
  Athletic Park</td></tbody></table>
DTEND;TZID=Central Standard Time:20260502T150000
DTSTAMP:20260421T144539Z
DTSTART;TZID=Central Standard Time:20260502T130000
SEQUENCE:0
SUMMARY:Girls Softball
UID:bda31932-8993-4211-b5be-6095a68a857a
END:VEVENT
END:VCALENDAR
