BEGIN:VCALENDAR
PRODID:-//github.com/rianjs/ical.net//NONSGML ical.net 4.0//EN
VERSION:2.0
BEGIN:VEVENT
CATEGORIES:Classes
CATEGORIES:Events
DESCRIPTION:Join us for a hands-on Clay Sculpting Open Studio where creati
 vity takes shape!
DTEND;TZID=Central Standard Time:20260502T160000
DTSTAMP:20260421T114823Z
DTSTART;TZID=Central Standard Time:20260502T100000
SEQUENCE:0
SUMMARY:Clay Sculpting Open Studio-May
UID:c3663dcf-023b-4e52-926b-52b636895579
END:VEVENT
END:VCALENDAR
