BEGIN:VCALENDAR
PRODID:-//github.com/rianjs/ical.net//NONSGML ical.net 4.0//EN
VERSION:2.0
BEGIN:VEVENT
CATEGORIES:Activities
CATEGORIES:Events
DESCRIPTION:Join us for an unforgettable evening full of festive fun\, foo
 d\, and culture!
DTEND;TZID=Central Standard Time:20260502T220000
DTSTAMP:20260422T164635Z
DTSTART;TZID=Central Standard Time:20260502T170000
SEQUENCE:0
SUMMARY:Cinco de Mayo
UID:c7ae0770-0387-4114-8b4e-48a76de41a8f
END:VEVENT
END:VCALENDAR
