BEGIN:VCALENDAR
PRODID:-//github.com/rianjs/ical.net//NONSGML ical.net 4.0//EN
VERSION:2.0
BEGIN:VEVENT
CATEGORIES:School Sports
DESCRIPTION: Vs. Minot Magicians<table class='games'><thead><tr><th>Team</
 th><th>Time</th><th>Location</th></thead><tbody><tr><td>Varsity</td><td>1
 2:00pm </td><td>Rough Rider Center</td></tbody></table>
DTEND;TZID=Central Standard Time:20260422T140000
DTSTAMP:20260421T145136Z
DTSTART;TZID=Central Standard Time:20260422T120000
SEQUENCE:0
SUMMARY:Boys Baseball
UID:e1b0db73-6d1a-48b4-ba67-0f75ecb4052b
END:VEVENT
END:VCALENDAR
