BEGIN:VCALENDAR
PRODID:-//github.com/rianjs/ical.net//NONSGML ical.net 4.0//EN
VERSION:2.0
BEGIN:VEVENT
CATEGORIES:Events
DESCRIPTION:Clothes\, books\, home goods\, and more!
DTEND;TZID=Central Standard Time:20260424T180000
DTSTAMP:20260423T183720Z
DTSTART;TZID=Central Standard Time:20260424T100000
SEQUENCE:0
SUMMARY:Bakken MomCo Rummage Sale
UID:f5f42712-b176-4d7f-98a8-973b761216c8
END:VEVENT
BEGIN:VEVENT
CATEGORIES:Events
DESCRIPTION:Clothes\, books\, home goods\, and more!
DTEND;TZID=Central Standard Time:20260425T120000
DTSTAMP:20260423T183720Z
DTSTART;TZID=Central Standard Time:20260425T090000
SEQUENCE:0
SUMMARY:Bakken MomCo Rummage Sale
UID:cc1c2870-f1f0-4b96-a371-678c1e8a795a
END:VEVENT
END:VCALENDAR
