BEGIN:VCALENDAR
PRODID:-//github.com/rianjs/ical.net//NONSGML ical.net 4.0//EN
VERSION:2.0
BEGIN:VEVENT
CATEGORIES:Classes
DESCRIPTION:Looking for a creative space to paint\, draw\, and connect? Jo
 in us for Open Studio\, a relaxed time for artists of all levels to creat
 e\, share ideas\, and enjoy being part of a supportive art community.\n\n
DTEND;TZID=Central Standard Time:20260512T200000
DTSTAMP:20260421T115348Z
DTSTART;TZID=Central Standard Time:20260512T160000
SEQUENCE:0
SUMMARY:Artist Open Studio on the Deck
UID:bd89468e-a2b7-4140-a37f-9525a4b71aa3
END:VEVENT
END:VCALENDAR
